BEGIN:VCALENDAR
VERSION:2.0
PRODID:-//Българският Берлин - ECPv6.15.20//NONSGML v1.0//EN
CALSCALE:GREGORIAN
METHOD:PUBLISH
X-WR-CALNAME:Българският Берлин
X-ORIGINAL-URL:https://bulgar.berlin
X-WR-CALDESC:Събития за Българският Берлин
REFRESH-INTERVAL;VALUE=DURATION:PT1H
X-Robots-Tag:noindex
X-PUBLISHED-TTL:PT1H
BEGIN:VTIMEZONE
TZID:Europe/Berlin
BEGIN:DAYLIGHT
TZOFFSETFROM:+0100
TZOFFSETTO:+0200
TZNAME:CEST
DTSTART:20250330T010000
END:DAYLIGHT
BEGIN:STANDARD
TZOFFSETFROM:+0200
TZOFFSETTO:+0100
TZNAME:CET
DTSTART:20251026T010000
END:STANDARD
BEGIN:DAYLIGHT
TZOFFSETFROM:+0100
TZOFFSETTO:+0200
TZNAME:CEST
DTSTART:20260329T010000
END:DAYLIGHT
BEGIN:STANDARD
TZOFFSETFROM:+0200
TZOFFSETTO:+0100
TZNAME:CET
DTSTART:20261025T010000
END:STANDARD
BEGIN:DAYLIGHT
TZOFFSETFROM:+0100
TZOFFSETTO:+0200
TZNAME:CEST
DTSTART:20270328T010000
END:DAYLIGHT
BEGIN:STANDARD
TZOFFSETFROM:+0200
TZOFFSETTO:+0100
TZNAME:CET
DTSTART:20271031T010000
END:STANDARD
END:VTIMEZONE
BEGIN:VEVENT
DTSTART;TZID=Europe/Berlin:20260424T200000
DTEND;TZID=Europe/Berlin:20260424T220000
DTSTAMP:20260424T115329
CREATED:20260416T103641Z
LAST-MODIFIED:20260417T134351Z
UID:9405-1777060800-1777068000@bulgar.berlin
SUMMARY:Седмицата на българското кино - прожекция на филма „Триумф“
DESCRIPTION:България / Гърция | 2024 | 97 мин.\nОригинална версия с немски субтитри. \nНай-новият филм на режисьорския дует Кристина Грозева и Петър Вълчанов\, „Триумф“\, е черна комедия\, чийто сюжет се върти около мистериозния случай с дупката в село Царичина. Сценарият на Дечо Таралежков\, Кристина Грозева и Петър Вълчанов ни връща в началото на 90-те години на миналия век\, посткомунистическата епоха. Тайна работна група от високопоставени офицери от българската армия\, водена от ясновидец\, започва да копае дупка в търсене на мистериозен артефакт\, който ще донесе върховен триумф. \nТрейлър филма „Триумф“
URL:https://bulgar.berlin/event/triumf/
LOCATION:KLICK Kino\, Windscheidstr. 19\, Berlin\, 10627\, Germany
CATEGORIES:Културен календар
ATTACH;FMTTYPE=image/jpeg:https://bulgar.berlin/wp-content/uploads/2026/04/Triumf.jpg
ORGANIZER;CN="Bulgarisches Kulturinstitut - Berlin":MAILTO:info@bulgarisches-kulturinstitut.de
END:VEVENT
END:VCALENDAR