BEGIN:VCALENDAR
VERSION:2.0
PRODID:-//Българският Берлин - ECPv6.15.20//NONSGML v1.0//EN
CALSCALE:GREGORIAN
METHOD:PUBLISH
X-WR-CALNAME:Българският Берлин
X-ORIGINAL-URL:https://bulgar.berlin
X-WR-CALDESC:Събития за Българският Берлин
REFRESH-INTERVAL;VALUE=DURATION:PT1H
X-Robots-Tag:noindex
X-PUBLISHED-TTL:PT1H
BEGIN:VTIMEZONE
TZID:Europe/Berlin
BEGIN:DAYLIGHT
TZOFFSETFROM:+0100
TZOFFSETTO:+0200
TZNAME:CEST
DTSTART:20250330T010000
END:DAYLIGHT
BEGIN:STANDARD
TZOFFSETFROM:+0200
TZOFFSETTO:+0100
TZNAME:CET
DTSTART:20251026T010000
END:STANDARD
BEGIN:DAYLIGHT
TZOFFSETFROM:+0100
TZOFFSETTO:+0200
TZNAME:CEST
DTSTART:20260329T010000
END:DAYLIGHT
BEGIN:STANDARD
TZOFFSETFROM:+0200
TZOFFSETTO:+0100
TZNAME:CET
DTSTART:20261025T010000
END:STANDARD
BEGIN:DAYLIGHT
TZOFFSETFROM:+0100
TZOFFSETTO:+0200
TZNAME:CEST
DTSTART:20270328T010000
END:DAYLIGHT
BEGIN:STANDARD
TZOFFSETFROM:+0200
TZOFFSETTO:+0100
TZNAME:CET
DTSTART:20271031T010000
END:STANDARD
END:VTIMEZONE
BEGIN:VEVENT
DTSTART;TZID=Europe/Berlin:20260423T200000
DTEND;TZID=Europe/Berlin:20260423T220000
DTSTAMP:20260423T120643
CREATED:20260416T075159Z
LAST-MODIFIED:20260417T140604Z
UID:9394-1776974400-1776981600@bulgar.berlin
SUMMARY:Седмица на българското кино - откриване на фестивала с филма „Жестокият път“
DESCRIPTION:България | 2025 | Документален | 107 мин.\nОригинална версия с немски субтитри. \nТози документален филм отбелязва 40-годишнината от едно изключително постижение в историята на българския алпинизъм – първото българско изкачване на връх Еверест през 1984 г. Филмът разказва драматичната история на българските алпинисти по най-трудния и смъртоносен маршрут на Западния хребет\, известен като „Жестокият маршрут“. Четиридесет години по-късно\, българите остават последните\, достигнали върха по този маршрут. Филмът разказва за експедицията\, обединила българския народ както никое друго събитие от социалистическата епоха.\nТрейлър: https://www.youtube.com/watch?v=kJ5bKy6_NOY&t=14s
URL:https://bulgar.berlin/event/bulgar-kino-jestokia-pat/
LOCATION:KLICK Kino\, Windscheidstr. 19\, Berlin\, 10627\, Germany
CATEGORIES:Културен календар
ATTACH;FMTTYPE=image/jpeg:https://bulgar.berlin/wp-content/uploads/2026/04/Zjestokia-pat.jpg
ORGANIZER;CN="Bulgarisches Kulturinstitut - Berlin":MAILTO:info@bulgarisches-kulturinstitut.de
END:VEVENT
END:VCALENDAR